BEGIN:VCALENDAR
VERSION:2.0
PRODID:-//wp-events-plugin.com//7.2.3.1//EN
TZID:Europe/Berlin
X-WR-TIMEZONE:Europe/Berlin
BEGIN:VEVENT
UID:67@figuralchor-koeln.de
DTSTART;TZID=Europe/Berlin:20261031T150000
DTEND;TZID=Europe/Berlin:20261031T150000
DTSTAMP:20260126T123513Z
URL:https://figuralchor-koeln.de/unsere-naechsten-konzerte/marienvesper/
SUMMARY:Marienvesper
DESCRIPTION:
CATEGORIES:Konzert
LOCATION:St. Pantaleon\, Am Pantaleonsberg 10a\, Köln\, 50676\, Deutschlan
 d
X-APPLE-STRUCTURED-LOCATION;VALUE=URI;X-ADDRESS=Am Pantaleonsberg 10a\, Kö
 ln\, 50676\, Deutschland;X-APPLE-RADIUS=100;X-TITLE=St. Pantaleon:geo:0,0
END:VEVENT
BEGIN:VTIMEZONE
TZID:Europe/Berlin
X-LIC-LOCATION:Europe/Berlin
BEGIN:STANDARD
DTSTART:20261025T020000
TZOFFSETFROM:+0200
TZOFFSETTO:+0100
TZNAME:CET
END:STANDARD
END:VTIMEZONE
END:VCALENDAR